BEGIN:VCALENDAR
VERSION:2.0
PRODID:-//Universidad Sergio Arboleda - ECPv6.14.2//NONSGML v1.0//EN
CALSCALE:GREGORIAN
METHOD:PUBLISH
X-ORIGINAL-URL:https://www.usergioarboleda.edu.co
X-WR-CALDESC:Eventos para Universidad Sergio Arboleda
REFRESH-INTERVAL;VALUE=DURATION:PT1H
X-Robots-Tag:noindex
X-PUBLISHED-TTL:PT1H
BEGIN:VTIMEZONE
TZID:America/Bogota
BEGIN:STANDARD
TZOFFSETFROM:-0500
TZOFFSETTO:-0500
TZNAME:-05
DTSTART:20240101T000000
END:STANDARD
END:VTIMEZONE
BEGIN:VEVENT
DTSTART;TZID=America/Bogota:20241107T180000
DTEND;TZID=America/Bogota:20241107T180000
DTSTAMP:20260422T063451
CREATED:20241107T133455Z
LAST-MODIFIED:20241107T133455Z
UID:355607-1731002400-1731002400@www.usergioarboleda.edu.co
SUMMARY:JUEVES DE OBSERVACIÓN | 7 DE NOVIEMBRE | ECEI | OBSERVATORIO ASTRONÓMICO
DESCRIPTION:
URL:https://www.usergioarboleda.edu.co/event/jueves-de-observacion-7-de-noviembre-ecei-observatorio-astronomico
END:VEVENT
END:VCALENDAR