BEGIN:VCALENDAR
VERSION:2.0
PRODID:-//Universidad Sergio Arboleda - ECPv6.14.2//NONSGML v1.0//EN
CALSCALE:GREGORIAN
METHOD:PUBLISH
X-WR-CALNAME:Universidad Sergio Arboleda
X-ORIGINAL-URL:https://www.usergioarboleda.edu.co
X-WR-CALDESC:Eventos para Universidad Sergio Arboleda
REFRESH-INTERVAL;VALUE=DURATION:PT1H
X-Robots-Tag:noindex
X-PUBLISHED-TTL:PT1H
BEGIN:VTIMEZONE
TZID:America/Bogota
BEGIN:STANDARD
TZOFFSETFROM:-0500
TZOFFSETTO:-0500
TZNAME:-05
DTSTART:20240101T000000
END:STANDARD
END:VTIMEZONE
BEGIN:VEVENT
DTSTART;TZID=America/Bogota:20241128T180000
DTEND;TZID=America/Bogota:20241128T180000
DTSTAMP:20260422T063415
CREATED:20241107T140631Z
LAST-MODIFIED:20241107T140651Z
UID:355618-1732816800-1732816800@www.usergioarboleda.edu.co
SUMMARY:JUEVES DE OBSERVACIÓN | 28 DE NOVIEMBRE | ECEI | OBSERVATORIO ASTRONÓMICO
DESCRIPTION:
URL:https://www.usergioarboleda.edu.co/event/jueves-de-observacion-28-de-noviembre-ecei-observatorio-astronomico
END:VEVENT
END:VCALENDAR