BEGIN:VCALENDAR
VERSION:2.0
PRODID:-//Universidad Sergio Arboleda - ECPv6.14.2//NONSGML v1.0//EN
CALSCALE:GREGORIAN
METHOD:PUBLISH
X-ORIGINAL-URL:https://www.usergioarboleda.edu.co
X-WR-CALDESC:Eventos para Universidad Sergio Arboleda
REFRESH-INTERVAL;VALUE=DURATION:PT1H
X-Robots-Tag:noindex
X-PUBLISHED-TTL:PT1H
BEGIN:VTIMEZONE
TZID:America/Bogota
BEGIN:STANDARD
TZOFFSETFROM:-0500
TZOFFSETTO:-0500
TZNAME:-05
DTSTART:20240101T000000
END:STANDARD
END:VTIMEZONE
BEGIN:VEVENT
DTSTART;TZID=America/Bogota:20241203T090000
DTEND;TZID=America/Bogota:20241203T170000
DTSTAMP:20260422T050248
CREATED:20241202T222834Z
LAST-MODIFIED:20241202T222834Z
UID:356182-1733216400-1733245200@www.usergioarboleda.edu.co
SUMMARY:MUESTRA FINAL DE SEMESTRE | ESCUELA COMUNICACIÓN E INDUSTRIAS DIGITALES | PLAZOLETA DE LAS MARIPOSAS Y COLORES
DESCRIPTION:
URL:https://www.usergioarboleda.edu.co/event/muestra-final-de-semestre-escuela-de-comunicacion-e-industrias-digitales
END:VEVENT
BEGIN:VEVENT
DTSTART;TZID=America/Bogota:20241203T170000
DTEND;TZID=America/Bogota:20241203T190000
DTSTAMP:20260422T050248
CREATED:20241202T223525Z
LAST-MODIFIED:20241202T223525Z
UID:356186-1733245200-1733252400@www.usergioarboleda.edu.co
SUMMARY:EVENTO PROGRAMA NEGOCIOS ESTRATÉGICOS DE MODA | PRIME BUSINESS SCHOOL | AUDITORIO PRINCIPAL
DESCRIPTION:
URL:https://www.usergioarboleda.edu.co/event/evento-programa-negocios-estrategicos-de-moda-prime-business-schoolstrategicos
END:VEVENT
END:VCALENDAR