BEGIN:VCALENDAR
VERSION:2.0
PRODID:-//Universidad Sergio Arboleda - ECPv6.14.2//NONSGML v1.0//EN
CALSCALE:GREGORIAN
METHOD:PUBLISH
X-ORIGINAL-URL:https://www.usergioarboleda.edu.co
X-WR-CALDESC:Eventos para Universidad Sergio Arboleda
REFRESH-INTERVAL;VALUE=DURATION:PT1H
X-Robots-Tag:noindex
X-PUBLISHED-TTL:PT1H
BEGIN:VTIMEZONE
TZID:America/Bogota
BEGIN:STANDARD
TZOFFSETFROM:-0500
TZOFFSETTO:-0500
TZNAME:-05
DTSTART:20250101T000000
END:STANDARD
END:VTIMEZONE
BEGIN:VEVENT
DTSTART;TZID=America/Bogota:20250205T080000
DTEND;TZID=America/Bogota:20250205T110000
DTSTAMP:20260422T021949
CREATED:20250204T212953Z
LAST-MODIFIED:20250204T213251Z
UID:357275-1738742400-1738753200@www.usergioarboleda.edu.co
SUMMARY:INDUCCIONES JÓVENES A LA E | DIRECCIÓN DE INCLUSIÓN Y EQUIDAD SOCIAL
DESCRIPTION:
URL:https://www.usergioarboleda.edu.co/event/inducciones-jovenes-a-la-e+
END:VEVENT
END:VCALENDAR