BEGIN:VCALENDAR
VERSION:2.0
PRODID:-//Universidad Sergio Arboleda - ECPv6.14.2//NONSGML v1.0//EN
CALSCALE:GREGORIAN
METHOD:PUBLISH
X-WR-CALNAME:Universidad Sergio Arboleda
X-ORIGINAL-URL:https://www.usergioarboleda.edu.co
X-WR-CALDESC:Eventos para Universidad Sergio Arboleda
REFRESH-INTERVAL;VALUE=DURATION:PT1H
X-Robots-Tag:noindex
X-PUBLISHED-TTL:PT1H
BEGIN:VTIMEZONE
TZID:America/Bogota
BEGIN:STANDARD
TZOFFSETFROM:-0500
TZOFFSETTO:-0500
TZNAME:-05
DTSTART:20250101T000000
END:STANDARD
END:VTIMEZONE
BEGIN:VEVENT
DTSTART;VALUE=DATE:20250221
DTEND;VALUE=DATE:20250222
DTSTAMP:20260422T021944
CREATED:20250220T195847Z
LAST-MODIFIED:20250220T200059Z
UID:357495-1740096000-1740182399@www.usergioarboleda.edu.co
SUMMARY:CIERRE DE INSCRIPCIONES DE REPRESENTANTES ESTUDIANTILES
DESCRIPTION:
URL:https://www.usergioarboleda.edu.co/event/cierre-de-inscripciones-de-representantes-estudiantiles
END:VEVENT
BEGIN:VEVENT
DTSTART;TZID=America/Bogota:20250221T130000
DTEND;TZID=America/Bogota:20250221T170000
DTSTAMP:20260422T021944
CREATED:20250217T173536Z
LAST-MODIFIED:20250217T173536Z
UID:357407-1740142800-1740157200@www.usergioarboleda.edu.co
SUMMARY:INDUCCIÓN ÁREA JURÍDICA | DIVISIÓN DE COMUNICACIONES Y MERCADEO | AUDITORIO PRINCIPAL
DESCRIPTION:
URL:https://www.usergioarboleda.edu.co/event/induccion-juridica-division-de-comunicaciones-y-mercadeo
END:VEVENT
END:VCALENDAR