BEGIN:VCALENDAR
VERSION:2.0
PRODID:-//Universidad Sergio Arboleda - ECPv6.14.2//NONSGML v1.0//EN
CALSCALE:GREGORIAN
METHOD:PUBLISH
X-WR-CALNAME:Universidad Sergio Arboleda
X-ORIGINAL-URL:https://www.usergioarboleda.edu.co
X-WR-CALDESC:Eventos para Universidad Sergio Arboleda
REFRESH-INTERVAL;VALUE=DURATION:PT1H
X-Robots-Tag:noindex
X-PUBLISHED-TTL:PT1H
BEGIN:VTIMEZONE
TZID:America/Bogota
BEGIN:STANDARD
TZOFFSETFROM:-0500
TZOFFSETTO:-0500
TZNAME:-05
DTSTART:20250101T000000
END:STANDARD
END:VTIMEZONE
BEGIN:VEVENT
DTSTART;TZID=America/Bogota:20250320T110000
DTEND;TZID=America/Bogota:20250320T140000
DTSTAMP:20260422T005152
CREATED:20250319T223139Z
LAST-MODIFIED:20250319T223330Z
UID:357808-1742468400-1742479200@www.usergioarboleda.edu.co
SUMMARY:RECOLECCIÓN PRENDAS FASHION BUSINESS | PRIME BUSINESS SCHOOL | PLAZOLETA DE LAS MARIPOSAS
DESCRIPTION:
URL:https://www.usergioarboleda.edu.co/event/recoleccion-prendas-fashion-business-prime-business-school
END:VEVENT
BEGIN:VEVENT
DTSTART;TZID=America/Bogota:20250320T120000
DTEND;TZID=America/Bogota:20250320T150000
DTSTAMP:20260422T005152
CREATED:20250319T224603Z
LAST-MODIFIED:20250319T224603Z
UID:357810-1742472000-1742482800@www.usergioarboleda.edu.co
SUMMARY:+ MOVIES. PELIS QUE SUMAN | DEPARTAMENTO DE BIENESTAR UNIVERSITARIO | PLAZOLETA DE LOS COLORES
DESCRIPTION:
URL:https://www.usergioarboleda.edu.co/event/%2B-movies-pelis-que-suman-departamento-de-bienestar-universitario
END:VEVENT
BEGIN:VEVENT
DTSTART;TZID=America/Bogota:20250320T180000
DTEND;TZID=America/Bogota:20250320T180000
DTSTAMP:20260422T005152
CREATED:20250319T221828Z
LAST-MODIFIED:20250319T221828Z
UID:357805-1742493600-1742493600@www.usergioarboleda.edu.co
SUMMARY:JUEVES DE OBSERVACIÓN | 20 DE MARZO | ECEI | OBSERVATORIO ASTRONÓMICO
DESCRIPTION:
URL:https://www.usergioarboleda.edu.co/event/jueves-de-observacion-20-de-marzo-ecei-observatorio-astronomico
END:VEVENT
END:VCALENDAR