BEGIN:VCALENDAR
VERSION:2.0
PRODID:-//Universidad Sergio Arboleda - ECPv6.14.2//NONSGML v1.0//EN
CALSCALE:GREGORIAN
METHOD:PUBLISH
X-WR-CALNAME:Universidad Sergio Arboleda
X-ORIGINAL-URL:https://www.usergioarboleda.edu.co
X-WR-CALDESC:Eventos para Universidad Sergio Arboleda
REFRESH-INTERVAL;VALUE=DURATION:PT1H
X-Robots-Tag:noindex
X-PUBLISHED-TTL:PT1H
BEGIN:VTIMEZONE
TZID:America/Bogota
BEGIN:STANDARD
TZOFFSETFROM:-0500
TZOFFSETTO:-0500
TZNAME:-05
DTSTART:20260101T000000
END:STANDARD
END:VTIMEZONE
BEGIN:VEVENT
DTSTART;VALUE=DATE:20260406
DTEND;VALUE=DATE:20260408
DTSTAMP:20260421T055448
CREATED:20260327T202323Z
LAST-MODIFIED:20260327T202323Z
UID:365632-1775433600-1775606399@www.usergioarboleda.edu.co
SUMMARY:CEREMONIAS INSTITUCIONALES DE GRADO 2026-1
DESCRIPTION:
URL:https://www.usergioarboleda.edu.co/ceremonias-institucionales-de-grado-2026-1
END:VEVENT
END:VCALENDAR