BEGIN:VCALENDAR
VERSION:2.0
PRODID:-//Universidad Sergio Arboleda - ECPv6.14.2//NONSGML v1.0//EN
CALSCALE:GREGORIAN
METHOD:PUBLISH
X-ORIGINAL-URL:https://www.usergioarboleda.edu.co
X-WR-CALDESC:Eventos para Universidad Sergio Arboleda
REFRESH-INTERVAL;VALUE=DURATION:PT1H
X-Robots-Tag:noindex
X-PUBLISHED-TTL:PT1H
BEGIN:VTIMEZONE
TZID:America/Bogota
BEGIN:STANDARD
TZOFFSETFROM:-0500
TZOFFSETTO:-0500
TZNAME:-05
DTSTART:20260101T000000
END:STANDARD
END:VTIMEZONE
BEGIN:VEVENT
DTSTART;VALUE=DATE:20260622
DTEND;VALUE=DATE:20260624
DTSTAMP:20260421T082836
CREATED:20260327T203142Z
LAST-MODIFIED:20260327T203142Z
UID:365644-1782086400-1782259199@www.usergioarboleda.edu.co
SUMMARY:CEREMONIAS INSTITUCIONALES DE GRADO 2026-2
DESCRIPTION:
URL:https://www.usergioarboleda.edu.co/ceremonias-institucionales-de-grados-2026-2
END:VEVENT
END:VCALENDAR