BEGIN:VCALENDAR
VERSION:2.0
PRODID:-//Universidad Sergio Arboleda - ECPv6.14.2//NONSGML v1.0//EN
CALSCALE:GREGORIAN
METHOD:PUBLISH
X-ORIGINAL-URL:https://www.usergioarboleda.edu.co
X-WR-CALDESC:Eventos para Universidad Sergio Arboleda
REFRESH-INTERVAL;VALUE=DURATION:PT1H
X-Robots-Tag:noindex
X-PUBLISHED-TTL:PT1H
BEGIN:VTIMEZONE
TZID:America/Bogota
BEGIN:STANDARD
TZOFFSETFROM:-0500
TZOFFSETTO:-0500
TZNAME:-05
DTSTART:20240101T000000
END:STANDARD
END:VTIMEZONE
BEGIN:VEVENT
DTSTART;TZID=America/Bogota:20241002T140000
DTEND;TZID=America/Bogota:20241002T140000
DTSTAMP:20260422T063406
CREATED:20240927T221828Z
LAST-MODIFIED:20240927T221828Z
UID:354290-1727877600-1727877600@www.usergioarboleda.edu.co
SUMMARY:COLOQUIO ACADÉMICO | LA COMPRA DE BIENES DE CONSUMO EN EL DERECHO EUROPEO Y ALEMÁN | ESCUELA MAYOR DE DERECHO
DESCRIPTION:
URL:https://www.usergioarboleda.edu.co/event/coloquio-academico-la-compra-de-bienes-de-consumo-en-el-derecho-europeo-y-aleman-escuela-mayor-de-derecho
END:VEVENT
BEGIN:VEVENT
DTSTART;TZID=America/Bogota:20241003T080000
DTEND;TZID=America/Bogota:20241003T120000
DTSTAMP:20260422T063406
CREATED:20241003T144708Z
LAST-MODIFIED:20241003T144716Z
UID:354450-1727942400-1727956800@www.usergioarboleda.edu.co
SUMMARY:FORO NUEVAS TENDENCIAS Y CAMBIOS LABORALES: MÁS ALLÁ DE LA REFORMA | ESCUELA MAYOR DE DERECHO
DESCRIPTION:
URL:https://www.usergioarboleda.edu.co/event/foro-nuevas-tendencias-y-cambios-laborales-mas-alla-de-la-reforma
END:VEVENT
BEGIN:VEVENT
DTSTART;TZID=America/Bogota:20241010T180000
DTEND;TZID=America/Bogota:20241010T180000
DTSTAMP:20260422T063406
CREATED:20241009T223632Z
LAST-MODIFIED:20241009T224017Z
UID:354702-1728583200-1728583200@www.usergioarboleda.edu.co
SUMMARY:JUEVES DE OBSERVACIÓN | 10 DE OCTUBRE | ECEI | OBSERVATORIO ASTRONÓMICO
DESCRIPTION:
URL:https://www.usergioarboleda.edu.co/event/jueves-de-observacion-10-de-octubre-ecei-observatorio-astronomico
END:VEVENT
BEGIN:VEVENT
DTSTART;TZID=America/Bogota:20241016T090000
DTEND;TZID=America/Bogota:20241016T130000
DTSTAMP:20260422T063406
CREATED:20241003T144225Z
LAST-MODIFIED:20241003T144225Z
UID:354447-1729069200-1729083600@www.usergioarboleda.edu.co
SUMMARY:LA SERGIO EN MODO ITALIA | OFICINA DE RELACIONES INTERNACIONALES - ORI
DESCRIPTION:
URL:https://www.usergioarboleda.edu.co/event/la-sergio-en-modo-italia-oficina-de-relaciones-internacionales-ori
END:VEVENT
BEGIN:VEVENT
DTSTART;VALUE=DATE:20241021
DTEND;VALUE=DATE:20241022
DTSTAMP:20260422T063406
CREATED:20241003T143328Z
LAST-MODIFIED:20241003T143350Z
UID:354441-1729468800-1729555199@www.usergioarboleda.edu.co
SUMMARY:DÍA MUNDIAL DE AHORRO DE ENERGÍA | INSTITUTO DE ESTUDIOS Y SERVICIOS AMBIENTALES - IDEASA
DESCRIPTION:
URL:https://www.usergioarboleda.edu.co/event/dia-mundial-de-ahorro-de-energia-instituto-de-estudios-y-servicios-ambientales-ideasa
END:VEVENT
BEGIN:VEVENT
DTSTART;TZID=America/Bogota:20241022T173000
DTEND;TZID=America/Bogota:20241022T190000
DTSTAMP:20260422T063406
CREATED:20241021T224512Z
LAST-MODIFIED:20241021T224729Z
UID:355020-1729618200-1729623600@www.usergioarboleda.edu.co
SUMMARY:PRESENTACIÓN DE POSTERS SOBRE TEMAS DE INTERÉS EN TOXICOLOGÍA FORENSE | ESCUELA MAYOR DE DERECHO
DESCRIPTION:
URL:https://www.usergioarboleda.edu.co/event/presentacion-de-posters-sobre-temas-de-interes-en-toxicologia-forense-escuela-mayor-de-derecho
END:VEVENT
BEGIN:VEVENT
DTSTART;VALUE=DATE:20241023
DTEND;VALUE=DATE:20241024
DTSTAMP:20260422T063406
CREATED:20241021T224825Z
LAST-MODIFIED:20241021T224852Z
UID:355023-1729641600-1729727999@www.usergioarboleda.edu.co
SUMMARY:PRESENTACIÓN DE POSTERS SOBRE TEMAS DE INTERÉS EN TOXICOLOGÍA FORENSE | ESCUELA MAYOR DE DERECHO
DESCRIPTION:
URL:https://www.usergioarboleda.edu.co/event/presentacion-de-posters-sobre-temas-de-interes-en-toxicologia-forense-escuela-mayor-de-derecho
END:VEVENT
BEGIN:VEVENT
DTSTART;VALUE=DATE:20241024
DTEND;VALUE=DATE:20241025
DTSTAMP:20260422T063406
CREATED:20241003T143728Z
LAST-MODIFIED:20241003T143759Z
UID:354444-1729728000-1729814399@www.usergioarboleda.edu.co
SUMMARY:DÍA INTERNACIONAL CONTRA EL CAMBIO CLIMÁTICO | INSTITUTO DE ESTUDIOS Y SERVICIOS AMBIENTALES - IDEASA
DESCRIPTION:
URL:https://www.usergioarboleda.edu.co/event/dia-internacional-contra-el-cambio-climatico-instituto-de-estudios-y-servicios-ambientales-ideasa
END:VEVENT
BEGIN:VEVENT
DTSTART;VALUE=DATE:20241028
DTEND;VALUE=DATE:20241029
DTSTAMP:20260422T063406
CREATED:20241024T135912Z
LAST-MODIFIED:20241024T135912Z
UID:355117-1730073600-1730159999@www.usergioarboleda.edu.co
SUMMARY:PROGRAMACIÓN LUNES | SEMANA CULTURAL RODRIGO NOGUERA LABORDE
DESCRIPTION:
URL:https://www.usergioarboleda.edu.co/event/programaci%C3%B3n-lunes-semana-cultural-rodrigo-noguera-laborde
END:VEVENT
BEGIN:VEVENT
DTSTART;TZID=America/Bogota:20241028T110000
DTEND;TZID=America/Bogota:20241028T110000
DTSTAMP:20260422T063406
CREATED:20241021T230752Z
LAST-MODIFIED:20241021T230752Z
UID:355030-1730113200-1730113200@www.usergioarboleda.edu.co
SUMMARY:CHARLA EMPRENDIMIENTO SOSTENIBLE\, INNOVACIÓN Y TENDENCIAS EN LA TRANSICIÓN ENERGÉTICA | SERGIO i+E
DESCRIPTION:
URL:https://www.usergioarboleda.edu.co/event/charla-emprendimiento-sostenible-innovacion-y-tendencias-en-la-transicion-energetica-sergio-i%2Be
END:VEVENT
BEGIN:VEVENT
DTSTART;VALUE=DATE:20241029
DTEND;VALUE=DATE:20241030
DTSTAMP:20260422T063406
CREATED:20241024T140504Z
LAST-MODIFIED:20241024T140504Z
UID:355122-1730160000-1730246399@www.usergioarboleda.edu.co
SUMMARY:PROGRAMACIÓN MARTES | SEMANA CULTURAL RODRIGO NOGUERA LABORDE
DESCRIPTION:
URL:https://www.usergioarboleda.edu.co/event/programaci%C3%B3n-martes-semana-cultural-rodrigo-noguera-laborde
END:VEVENT
BEGIN:VEVENT
DTSTART;VALUE=DATE:20241029
DTEND;VALUE=DATE:20241031
DTSTAMP:20260422T063406
CREATED:20241028T211337Z
LAST-MODIFIED:20241028T211432Z
UID:355306-1730160000-1730332799@www.usergioarboleda.edu.co
SUMMARY:AGENDA GENERAL | LA SERGIO 40 AÑOS
DESCRIPTION:
URL:https://www.usergioarboleda.edu.co/event/agenda-general-la-sergio-40-a%C3%B1os
END:VEVENT
BEGIN:VEVENT
DTSTART;TZID=America/Bogota:20241029T100000
DTEND;TZID=America/Bogota:20241029T100000
DTSTAMP:20260422T063406
CREATED:20241028T205527Z
LAST-MODIFIED:20241028T205527Z
UID:355289-1730196000-1730196000@www.usergioarboleda.edu.co
SUMMARY:PRESENTACIÓN DEL LIBRO SERGIO ARBOLEDA POMBO\, OBRAS SELECTAS | LA SERGIO 40 AÑOS
DESCRIPTION:
URL:https://www.usergioarboleda.edu.co/event/presentacion-del-libro-sergio-arboleda-pombo-obras-selectas-la-sergio-40-a%C3%B1os
END:VEVENT
BEGIN:VEVENT
DTSTART;TZID=America/Bogota:20241029T180000
DTEND;TZID=America/Bogota:20241029T180000
DTSTAMP:20260422T063406
CREATED:20241021T225608Z
LAST-MODIFIED:20241021T230201Z
UID:355027-1730224800-1730224800@www.usergioarboleda.edu.co
SUMMARY:TERTULIA AEROESPACIAL VIRTUAL 29 DE OCTUBRE | ECEI | OBSERVATORIO ASTRONÓMICO
DESCRIPTION:
URL:https://www.usergioarboleda.edu.co/event/tertulia-especial-virtual-29-de-octubre-ecei-observatorio-astronomico
END:VEVENT
BEGIN:VEVENT
DTSTART;VALUE=DATE:20241030
DTEND;VALUE=DATE:20241031
DTSTAMP:20260422T063406
CREATED:20241024T142823Z
LAST-MODIFIED:20241024T142823Z
UID:355125-1730246400-1730332799@www.usergioarboleda.edu.co
SUMMARY:PROGRAMACIÓN MIÉRCOLES | SEMANA CULTURAL RODRIGO NOGUERA LABORDE
DESCRIPTION:
URL:https://www.usergioarboleda.edu.co/event/programaci%C3%B3n-miercoles-semana-cultural-rodrigo-noguera-laborde
END:VEVENT
BEGIN:VEVENT
DTSTART;VALUE=DATE:20241031
DTEND;VALUE=DATE:20241101
DTSTAMP:20260422T063406
CREATED:20241024T143512Z
LAST-MODIFIED:20241024T143551Z
UID:355128-1730332800-1730419199@www.usergioarboleda.edu.co
SUMMARY:PROGRAMACIÓN JUEVES | SEMANA CULTURAL RODRIGO NOGUERA LABORDE
DESCRIPTION:
URL:https://www.usergioarboleda.edu.co/event/programaci%C3%B3n-jueves-semana-cultural-rodrigo-noguera-laborde
END:VEVENT
END:VCALENDAR