BEGIN:VCALENDAR
VERSION:2.0
PRODID:-//Universidad Sergio Arboleda - ECPv6.14.2//NONSGML v1.0//EN
CALSCALE:GREGORIAN
METHOD:PUBLISH
X-ORIGINAL-URL:https://www.usergioarboleda.edu.co
X-WR-CALDESC:Eventos para Universidad Sergio Arboleda
REFRESH-INTERVAL;VALUE=DURATION:PT1H
X-Robots-Tag:noindex
X-PUBLISHED-TTL:PT1H
BEGIN:VTIMEZONE
TZID:America/Bogota
BEGIN:STANDARD
TZOFFSETFROM:-0500
TZOFFSETTO:-0500
TZNAME:-05
DTSTART:20250101T000000
END:STANDARD
END:VTIMEZONE
BEGIN:VEVENT
DTSTART;TZID=America/Bogota:20250120T153000
DTEND;TZID=America/Bogota:20250120T153000
DTSTAMP:20260422T021950
CREATED:20250116T180135Z
LAST-MODIFIED:20250117T170001Z
UID:356865-1737387000-1737387000@www.usergioarboleda.edu.co
SUMMARY:CONVERSATORIO 'HAGO PARTE DE UNA GENERACIÓN QUE CUMPLE SUS SUEÑOS' | SEMANA DE INDUCCIÓN 2025-1
DESCRIPTION:
URL:https://www.usergioarboleda.edu.co/event/conversatorio-hago-parte-de-una-generacion-que-cumple-sus-sue%C3%B1os-semana-de-induccion-2025-1
END:VEVENT
BEGIN:VEVENT
DTSTART;VALUE=DATE:20250122
DTEND;VALUE=DATE:20250125
DTSTAMP:20260422T021950
CREATED:20250110T211606Z
LAST-MODIFIED:20250110T213811Z
UID:356765-1737504000-1737763199@www.usergioarboleda.edu.co
SUMMARY:SEMANA DE INDUCCIÓN 2025-1 | CENTRO DE EVENTOS HALL 74
DESCRIPTION:
URL:https://www.usergioarboleda.edu.co/event/semana-de-induccion-2025-1-centro-de-eventos-hall-74
END:VEVENT
END:VCALENDAR