BEGIN:VCALENDAR
VERSION:2.0
PRODID:-//Universidad Sergio Arboleda - ECPv6.14.2//NONSGML v1.0//EN
CALSCALE:GREGORIAN
METHOD:PUBLISH
X-ORIGINAL-URL:https://www.usergioarboleda.edu.co
X-WR-CALDESC:Eventos para Universidad Sergio Arboleda
REFRESH-INTERVAL;VALUE=DURATION:PT1H
X-Robots-Tag:noindex
X-PUBLISHED-TTL:PT1H
BEGIN:VTIMEZONE
TZID:America/Bogota
BEGIN:STANDARD
TZOFFSETFROM:-0500
TZOFFSETTO:-0500
TZNAME:-05
DTSTART:20250101T000000
END:STANDARD
END:VTIMEZONE
BEGIN:VEVENT
DTSTART;VALUE=DATE:20250203
DTEND;VALUE=DATE:20250204
DTSTAMP:20260422T005217
CREATED:20250110T152034Z
LAST-MODIFIED:20250110T152034Z
UID:356768-1738540800-1738627199@www.usergioarboleda.edu.co
SUMMARY:INICIO DE CLASES 2025-1
DESCRIPTION:
URL:https://www.usergioarboleda.edu.co/event/inicio-de-clases-2025-1
END:VEVENT
BEGIN:VEVENT
DTSTART;TZID=America/Bogota:20250205T080000
DTEND;TZID=America/Bogota:20250205T110000
DTSTAMP:20260422T005217
CREATED:20250204T212953Z
LAST-MODIFIED:20250204T213251Z
UID:357275-1738742400-1738753200@www.usergioarboleda.edu.co
SUMMARY:INDUCCIONES JÓVENES A LA E | DIRECCIÓN DE INCLUSIÓN Y EQUIDAD SOCIAL
DESCRIPTION:
URL:https://www.usergioarboleda.edu.co/event/inducciones-jovenes-a-la-e+
END:VEVENT
BEGIN:VEVENT
DTSTART;TZID=America/Bogota:20250206T130000
DTEND;TZID=America/Bogota:20250206T180000
DTSTAMP:20260422T005217
CREATED:20250204T213653Z
LAST-MODIFIED:20250204T213653Z
UID:357277-1738846800-1738864800@www.usergioarboleda.edu.co
SUMMARY:INDUCCIONES MAESTRÍA EN DERECHO | DIVISIÓN DE COMUNICACIONES Y MERCADEO
DESCRIPTION:
URL:https://www.usergioarboleda.edu.co/event/inducciones-maestria-en-derecho
END:VEVENT
BEGIN:VEVENT
DTSTART;TZID=America/Bogota:20250206T180000
DTEND;TZID=America/Bogota:20250206T180000
DTSTAMP:20260422T005217
CREATED:20250205T222019Z
LAST-MODIFIED:20250205T222206Z
UID:357292-1738864800-1738864800@www.usergioarboleda.edu.co
SUMMARY:JUEVES DE OBSERVACIÓN | 6 DE FEBRERO | ECEI | OBSERVATORIO ASTRONÓMICO
DESCRIPTION:
URL:https://www.usergioarboleda.edu.co/event/jueves-de-observacion-6-de-febrero-ecei-observatorio-astronomico
END:VEVENT
BEGIN:VEVENT
DTSTART;TZID=America/Bogota:20250207T070000
DTEND;TZID=America/Bogota:20250207T220000
DTSTAMP:20260422T005217
CREATED:20250204T214050Z
LAST-MODIFIED:20250204T214050Z
UID:357279-1738911600-1738965600@www.usergioarboleda.edu.co
SUMMARY:INDUCCIÓN JURÍDICA | DIVISIÓN DE COMUNICACIONES Y MERCADEO
DESCRIPTION:
URL:https://www.usergioarboleda.edu.co/event/induccion-juridica
END:VEVENT
BEGIN:VEVENT
DTSTART;TZID=America/Bogota:20250210T140000
DTEND;TZID=America/Bogota:20250210T190000
DTSTAMP:20260422T005217
CREATED:20250210T134105Z
LAST-MODIFIED:20250210T134221Z
UID:357322-1739196000-1739214000@www.usergioarboleda.edu.co
SUMMARY:CLASE MAGISTRAL DE IMPROVISACIÓN - CONSERVATORIO SIBELIUS - FINLANDIA | ESCUELA DE ARTES Y CREACIÓN | HALL 74
DESCRIPTION:
URL:https://www.usergioarboleda.edu.co/event/clase-magistral-de-improvisacion-conservatorio-sibelius-finlandia-escuela-de-artes-y-creacion
END:VEVENT
BEGIN:VEVENT
DTSTART;TZID=America/Bogota:20250211T110000
DTEND;TZID=America/Bogota:20250211T130000
DTSTAMP:20260422T005217
CREATED:20250210T135058Z
LAST-MODIFIED:20250210T135141Z
UID:357324-1739271600-1739278800@www.usergioarboleda.edu.co
SUMMARY:CHARLA INTELIGENCIA ARTIFICIAL | ESCUELA DE CIENCIAS EXACTAS E INGENIERÍA | AUDITORIO PRINCIPAL
DESCRIPTION:
URL:https://www.usergioarboleda.edu.co/event/charla-inteligencia-artificial-escuela-ciencias-exactas-e-ingenieria
END:VEVENT
BEGIN:VEVENT
DTSTART;TZID=America/Bogota:20250211T160000
DTEND;TZID=America/Bogota:20250211T180000
DTSTAMP:20260422T005217
CREATED:20250210T135509Z
LAST-MODIFIED:20250210T135509Z
UID:357326-1739289600-1739296800@www.usergioarboleda.edu.co
SUMMARY:INDUCCIONES POSGRADOS ECEI | DIVISIÓN DE COMUNICACIONES Y MERCADEO | AUDITORIO PRINCIPAL
DESCRIPTION:
URL:https://www.usergioarboleda.edu.co/event/inducciones-posgrados-ecei-division-de-comunicaciones-y-mercadeo
END:VEVENT
BEGIN:VEVENT
DTSTART;TZID=America/Bogota:20250212T090000
DTEND;TZID=America/Bogota:20250212T150000
DTSTAMP:20260422T005217
CREATED:20250210T144803Z
LAST-MODIFIED:20250210T144803Z
UID:357328-1739350800-1739372400@www.usergioarboleda.edu.co
SUMMARY:FERIA DE CONVENIOS COMERCIALES | OFICINA DE EGRESADOS | PLAZOLETA LAS MARIPOSAS
DESCRIPTION:
URL:https://www.usergioarboleda.edu.co/event/feria-de-convenios-comerciales-oficina-de-egresados
END:VEVENT
BEGIN:VEVENT
DTSTART;TZID=America/Bogota:20250212T160000
DTEND;TZID=America/Bogota:20250212T180000
DTSTAMP:20260422T005217
CREATED:20250210T152904Z
LAST-MODIFIED:20250210T152937Z
UID:357330-1739376000-1739383200@www.usergioarboleda.edu.co
SUMMARY:INDUCCIONES POSGRADOS: ÁREA DE EDUCACIÓN | DIVISIÓN DE COMUNICACIONES Y MERCADEO | AUDITORIO PRINCIPAL
DESCRIPTION:
URL:https://www.usergioarboleda.edu.co/event/inducciones-posgrados-area-de-educacion-division-de-comunicaciones-y-mercadeo
END:VEVENT
BEGIN:VEVENT
DTSTART;TZID=America/Bogota:20250213T090000
DTEND;TZID=America/Bogota:20250213T140000
DTSTAMP:20260422T005217
CREATED:20250212T224627Z
LAST-MODIFIED:20250212T224811Z
UID:357352-1739437200-1739455200@www.usergioarboleda.edu.co
SUMMARY:FERIA DE LA LIBRERÍA | LIBRERÍA Y TIENDA SERGISTA | PLAZOLETA DE LAS MARIPOSAS
DESCRIPTION:
URL:https://www.usergioarboleda.edu.co/event/feria-de-la-libreria-libreria-y-tienda-sergista
END:VEVENT
BEGIN:VEVENT
DTSTART;TZID=America/Bogota:20250213T110000
DTEND;TZID=America/Bogota:20250213T130000
DTSTAMP:20260422T005217
CREATED:20250212T225052Z
LAST-MODIFIED:20250212T225052Z
UID:357355-1739444400-1739451600@www.usergioarboleda.edu.co
SUMMARY:ACTIVACIÓN CONVENIO ACTYON BLACK | CENTRO DE FORMACIÓN DEPORTIVA | PLAZOLETA LOS COLORES
DESCRIPTION:
URL:https://www.usergioarboleda.edu.co/event/activacion-convenio-actyon-black-centro-de-formacion-deportiva
END:VEVENT
BEGIN:VEVENT
DTSTART;TZID=America/Bogota:20250213T140000
DTEND;TZID=America/Bogota:20250213T170000
DTSTAMP:20260422T005217
CREATED:20250212T225410Z
LAST-MODIFIED:20250212T225410Z
UID:357357-1739455200-1739466000@www.usergioarboleda.edu.co
SUMMARY:EVENTO FUNDACIÓN APOYO DE GÉNERO Y ABEL AGUILAR | PRIME BUSINESS SCHOOL | PLAZOLETA LOS COLORES
DESCRIPTION:
URL:https://www.usergioarboleda.edu.co/event/evento-fundacion-apoyo-de-genero-y-abel-aguilar-prime-business-school
END:VEVENT
BEGIN:VEVENT
DTSTART;TZID=America/Bogota:20250213T180000
DTEND;TZID=America/Bogota:20250213T180000
DTSTAMP:20260422T005217
CREATED:20250212T223940Z
LAST-MODIFIED:20250212T223940Z
UID:357349-1739469600-1739469600@www.usergioarboleda.edu.co
SUMMARY:JUEVES DE OBSERVACIÓN | 13 DE FEBRERO | ECEI | OBSERVATORIO ASTRONÓMICO
DESCRIPTION:
URL:https://www.usergioarboleda.edu.co/event/jueves-de-observacion-13-de-febrero-ecei-observatorio-astronomico
END:VEVENT
BEGIN:VEVENT
DTSTART;TZID=America/Bogota:20250214T090000
DTEND;TZID=America/Bogota:20250214T140000
DTSTAMP:20260422T005217
CREATED:20250213T220536Z
LAST-MODIFIED:20250213T220536Z
UID:357379-1739523600-1739541600@www.usergioarboleda.edu.co
SUMMARY:FERIA DE LA LIBRERÍA | LIBRERÍA Y TIENDA SERGISTA | PLAZOLETA DE LAS MARIPOSAS
DESCRIPTION:
URL:https://www.usergioarboleda.edu.co/event/feria-de-la-libreria-libreria-y-tienda-sergista
END:VEVENT
BEGIN:VEVENT
DTSTART;TZID=America/Bogota:20250214T120000
DTEND;TZID=America/Bogota:20250214T140000
DTSTAMP:20260422T005217
CREATED:20250213T221311Z
LAST-MODIFIED:20250213T221311Z
UID:357381-1739534400-1739541600@www.usergioarboleda.edu.co
SUMMARY:ENCUENTRO ASCOLFA | PRIME BUSINESS SCHOOL | AUDITORIO PRINCIPAL
DESCRIPTION:
URL:https://www.usergioarboleda.edu.co/event/encuentro-ascolfa-prime-business-school
END:VEVENT
BEGIN:VEVENT
DTSTART;TZID=America/Bogota:20250218T170000
DTEND;TZID=America/Bogota:20250218T200000
DTSTAMP:20260422T005217
CREATED:20250217T170942Z
LAST-MODIFIED:20250217T170942Z
UID:357399-1739898000-1739908800@www.usergioarboleda.edu.co
SUMMARY:VICERRECTORÍA DE RELACIONES INSTITUCIONALES: MESA DE NEGOCIOS | DIRECCIÓN INCLUSIÓN Y EQUIDAD SOCIAL | AUDITORIO PRINCIPAL
DESCRIPTION:
URL:https://www.usergioarboleda.edu.co/event/vicerrectoria-de-relaciones-institucionales-mesa-de-negocios-direccion-inclusion-y-equidad-social
END:VEVENT
BEGIN:VEVENT
DTSTART;TZID=America/Bogota:20250219T110000
DTEND;TZID=America/Bogota:20250219T140000
DTSTAMP:20260422T005217
CREATED:20250217T171545Z
LAST-MODIFIED:20250218T165434Z
UID:357401-1739962800-1739973600@www.usergioarboleda.edu.co
SUMMARY:FERIA DE VOLUNTARIADOS SERGISTAS | DEPARTAMENTO DE BIENESTAR UNIVERSITARIO | PLAZOLETA LAS MARIPOSAS
DESCRIPTION:
URL:https://www.usergioarboleda.edu.co/event/feria-del-voluntariado-departamento-de-bienestar-universitario
END:VEVENT
BEGIN:VEVENT
DTSTART;TZID=America/Bogota:20250220T070000
DTEND;TZID=America/Bogota:20250220T130000
DTSTAMP:20260422T005217
CREATED:20250217T172450Z
LAST-MODIFIED:20250217T172450Z
UID:357403-1740034800-1740056400@www.usergioarboleda.edu.co
SUMMARY:CONFERENCIA: LAS ÁREAS DE RESERVA PARA LA PRODUCCIÓN DE ALIMENTOS | ESCUELA MAYOR DE DERECHO | AUDITORIO PRINCIPAL
DESCRIPTION:
URL:https://www.usergioarboleda.edu.co/event/conferencia-las-areas-de-reserva-para-la-produccion-de-alimentos-escuela-mayor-de-derecho
END:VEVENT
BEGIN:VEVENT
DTSTART;TZID=America/Bogota:20250220T113000
DTEND;TZID=America/Bogota:20250220T150000
DTSTAMP:20260422T005217
CREATED:20250217T172905Z
LAST-MODIFIED:20250217T172905Z
UID:357405-1740051000-1740063600@www.usergioarboleda.edu.co
SUMMARY:+ MOVIES: PELIS QUE SUMAN | DEPARTAMENTO BIENESTAR UNIVERSITARIO | PLAZOLETA DE LOS COLORES
DESCRIPTION:
URL:https://www.usergioarboleda.edu.co/event/%2Bmovies-pelis-que-suman-departamento-de-bienestar-universitario
END:VEVENT
BEGIN:VEVENT
DTSTART;VALUE=DATE:20250221
DTEND;VALUE=DATE:20250222
DTSTAMP:20260422T005217
CREATED:20250220T195847Z
LAST-MODIFIED:20250220T200059Z
UID:357495-1740096000-1740182399@www.usergioarboleda.edu.co
SUMMARY:CIERRE DE INSCRIPCIONES DE REPRESENTANTES ESTUDIANTILES
DESCRIPTION:
URL:https://www.usergioarboleda.edu.co/event/cierre-de-inscripciones-de-representantes-estudiantiles
END:VEVENT
BEGIN:VEVENT
DTSTART;TZID=America/Bogota:20250221T130000
DTEND;TZID=America/Bogota:20250221T170000
DTSTAMP:20260422T005217
CREATED:20250217T173536Z
LAST-MODIFIED:20250217T173536Z
UID:357407-1740142800-1740157200@www.usergioarboleda.edu.co
SUMMARY:INDUCCIÓN ÁREA JURÍDICA | DIVISIÓN DE COMUNICACIONES Y MERCADEO | AUDITORIO PRINCIPAL
DESCRIPTION:
URL:https://www.usergioarboleda.edu.co/event/induccion-juridica-division-de-comunicaciones-y-mercadeo
END:VEVENT
BEGIN:VEVENT
DTSTART;VALUE=DATE:20250222
DTEND;VALUE=DATE:20250223
DTSTAMP:20260422T005217
CREATED:20250110T193749Z
LAST-MODIFIED:20250110T193915Z
UID:356770-1740182400-1740268799@www.usergioarboleda.edu.co
SUMMARY:ÚLTIMO PLAZO RETIRO DE MATERIAS
DESCRIPTION:
URL:https://www.usergioarboleda.edu.co/event/ultimo-plazo-retiro-de-materias
END:VEVENT
BEGIN:VEVENT
DTSTART;VALUE=DATE:20250225
DTEND;VALUE=DATE:20250226
DTSTAMP:20260422T005217
CREATED:20250220T200255Z
LAST-MODIFIED:20250220T200323Z
UID:357500-1740441600-1740527999@www.usergioarboleda.edu.co
SUMMARY:SORTEO DE NÚMEROS DE TARJETÓN | ELECCIÓN DE REPRESENTANTES ESTUDIANTILES 2025-2026
DESCRIPTION:
URL:https://www.usergioarboleda.edu.co/event/sorteo-de-numeros-de-tarjeton-eleccion-de-representantes-estudiantiles-2025-2026
END:VEVENT
BEGIN:VEVENT
DTSTART;VALUE=DATE:20250226
DTEND;VALUE=DATE:20250315
DTSTAMP:20260422T005217
CREATED:20250220T200526Z
LAST-MODIFIED:20250220T200549Z
UID:357503-1740528000-1741996799@www.usergioarboleda.edu.co
SUMMARY:CAMPAÑAS Y DEBATES ELECTORALES DE REPRESENTANTES ESTUDIANTILES
DESCRIPTION:
URL:https://www.usergioarboleda.edu.co/event/campa%C3%B1as-y-debates-electorales-de-representantes-estudiantiles
END:VEVENT
END:VCALENDAR