BEGIN:VCALENDAR
VERSION:2.0
PRODID:-//Universidad Sergio Arboleda - ECPv6.14.2//NONSGML v1.0//EN
CALSCALE:GREGORIAN
METHOD:PUBLISH
X-ORIGINAL-URL:https://www.usergioarboleda.edu.co
X-WR-CALDESC:Eventos para Universidad Sergio Arboleda
REFRESH-INTERVAL;VALUE=DURATION:PT1H
X-Robots-Tag:noindex
X-PUBLISHED-TTL:PT1H
BEGIN:VTIMEZONE
TZID:America/Bogota
BEGIN:STANDARD
TZOFFSETFROM:-0500
TZOFFSETTO:-0500
TZNAME:-05
DTSTART:20250101T000000
END:STANDARD
END:VTIMEZONE
BEGIN:VEVENT
DTSTART;VALUE=DATE:20251207
DTEND;VALUE=DATE:20251208
DTSTAMP:20260421T101635
CREATED:20251008T140756Z
LAST-MODIFIED:20251008T140756Z
UID:362960-1765065600-1765151999@www.usergioarboleda.edu.co
SUMMARY:CIERRE DEL PERIODO ACADÉMICO | UNIVERSIDAD SERGIO ARBOLEDA
DESCRIPTION:
URL:https://www.usergioarboleda.edu.co/cierre-del-periodo-academico
END:VEVENT
BEGIN:VEVENT
DTSTART;VALUE=DATE:20251209
DTEND;VALUE=DATE:20251211
DTSTAMP:20260421T101635
CREATED:20251008T142253Z
LAST-MODIFIED:20251008T142253Z
UID:362962-1765238400-1765411199@www.usergioarboleda.edu.co
SUMMARY:CEREMONIA INSTITUCIONAL DE GRADOS - II | UNIVERSIDAD SERGIO ARBOLEDA
DESCRIPTION:
URL:https://www.usergioarboleda.edu.co/ceremonia-institucional-de-grados-II
END:VEVENT
END:VCALENDAR